Workbook

Sheet 様式１
C3: 様式１
J5: 令和 年 月 日 | L5: 手入力
C7: （宛先）
C8: 伊丹市長 様
F9: 所在地： | L9: 手入力
F10: 会社名： | L10: 手入力
F11: 代表者職氏名： | L11: 手入力
C13: 参 加 申 込 書
C15: =+" 「"&基本情報!C2&"」について、実施要領に定める事項に同意した上で、参加を表明します。" -> 「伊丹市広報紙制作委託業務」について、実施要領に定める事項に同意した上で、参加を表明します。
C18: 【担当者連絡先】
C19: 所属・部署名 | L19: 手入力
C20: 氏名 | L20: 手入力
C21: 電話番号 | L21: 手入力
C22: E-Mail | L22: 手入力

Sheet 様式２
C3: 様式２
C5: 会社概要
C7: 会社名 | D7: =+IF(様式１!H10="", "", 様式１!H10) | N7: 様式１に記載した事項が反映
C8: 所在地 | D8: =+IF(様式１!H9="", "", 様式１!H9) | N8: 様式１に記載した事項が反映
C9: 代表者職氏名 | D9: =+IF(様式１!H11="", "", 様式１!H11) | N9: 様式１に記載した事項が反映
C10: 資本金等 | N10: 手入力
C11: 設立年月日 | N11: 手入力
C12: 従業員数 | D12: 事務系 | F12: 名 | G12: その他 | I12: 名 | J12: 合計 | K12: =+IF(AND(E12="",H12=""), "", E12+H12) | L12: 名 | N12: 合計以外、手入力
C13: 業務内容 | N13: 別紙でも可。その場合は「別紙のとおり」と記載し、当該別紙を併せて提出してください。
C14: 業務処理体制（組織図等） | N14: 別紙でも可。その場合は「別紙のとおり」と記載し、当該別紙を併せて提出してください。
C21: 本事業の 総括責任者 | D21: 職氏名 | N21: 手入力
C22: 本事業の 業務担当者 | D22: 職氏名 | N22: 手入力
C23: ※ 従業員数、業務処理体制は、企画提案書提出時の人数、体制を記入すること。
C24: ※ 会社概要、パンフレットなどの資料があれば添付すること。

Sheet 様式３
C3: 様式３
C4: 類似業務の実績調書
C5: 直近５年間（令和３年４月１日～令和８年３月３１日の間に履行が完了したもの）の主な類似契約の実績を記入してください。
C6: 自治体名 | E6: 人口（万人） 令和8年4月1日現在 | F6: 契約期間 | G6: 契約金額 （千円） | H6: 契約名 | I6: 契約内容 | J6: 備考欄
C7: 例 | D7: ○○県○○市 | E7: 15.6 | F7: 令和3年4月～ 令和4年3月 | G7: 3000 | H7: ○○市広報紙制作委託業務 | I7: ・フルカラータブロイド12ページの紙面製作 ・100,000部発行（月1回発行） | J7: プロポーザル方式
C8: 1
C9: 2
C10: 3
C11: 4
C12: 5

Sheet 様式４
C3: 様式４
J5: =+様式１!J5 -> 令和 年 月 日 | L5: 様式１に記載した事項が反映
C7: （宛先）
C8: 伊丹市長
F9: =+様式１!F9 -> 所在地： | H9: =+IF(様式１!H9="", "", 様式１!H9) | L9: 様式１に記載した事項が反映
F10: =+様式１!F10 -> 会社名： | H10: =+IF(様式１!H10="", "", 様式１!H10) | L10: 様式１に記載した事項が反映
F11: =+様式１!F11 -> 代表者職氏名： | H11: =+IF(様式１!H11="", "", 様式１!H11) | L11: 様式１に記載した事項が反映
C13: 誓 約 書
C15: =+" 私は、「"&基本情報!C2&"」のプロポーザルにかかる企画提案の参加申込みにあたり、下記の事項について誓約をいたします。 なお、参加申込み後において、当該誓約事項に反することが判明したときは、速やかに市に申し出ます。また、市が行う措置について何ら異議を申し立てないことを誓約します。" -> 私は、「伊丹市広報紙制作委託業務」のプロポーザルにかかる企画提案の参加申込みにあたり、下記の事項について誓約をいたします。 なお、参加申込み後において、当該誓約事項に反することが判明したときは、速やかに市に申し出ます。また、市が行う措置について何ら異議を申し立てないことを誓約します。
C21: 記
C23: 誓約事項
C24: ・ 実施要領の参加資格をすべて満たしていること。
C25: ・ 提出書類の内容について事実と相違ないこと。
C26: ・ 提出書類において原本提示を求められた場合はこれに応じること。
C27: =+" ・ 当該書類が情報公開の対象となった場合、"&基本情報!C2&"に係る公募型プロポーザル実施要領「12．その他留意事項(８)」に基づく申し出を行わないときは、公開について異議を唱えないこと。" -> ・ 当該書類が情報公開の対象となった場合、伊丹市広報紙制作委託業務に係る公募型プロポーザル実施要領「12．その他留意事項(８)」に基づく申し出を行わないときは、公開について異議を唱えないこと。

Sheet 様式５
C3: 様式５
F4: 令和 年 月 日 | H4: 手入力
C6: 伊丹市総合政策部経営戦略室
C7: 広報・シティプロモーション戦略課 宛
C8: E-mail koho@city.itami.lg.jp
E10: 会社名： | F10: =+IF(様式１!H10="", "", 様式１!H10) | H10: 様式１に記載した事項が反映
E11: 所在地： | F11: =+IF(様式１!H9="", "", 様式１!H9) | H11: 様式１に記載した事項が反映
E12: 担当者氏名： | F12: =+IF(様式１!E20="", "", 様式１!E20) | H12: 様式１に記載した事項が反映。様式１の担当者と様式５の担当者が異なる場合は、手入力で上書きしてください。
E13: 電話番号： | F13: =+IF(様式１!E21="", "", 様式１!E21) | H13: 様式１に記載した事項が反映。様式１の電話番号と様式５の電話番号が異なる場合は、手入力で上書きしてください。
E14: E-mail： | F14: =+IF(様式１!E22="", "", 様式１!E22) | H14: 様式１に記載した事項が反映。様式１のE-mailと様式５のE-mailが異なる場合は、手入力で上書きしてください。
C16: 質問書
C18: 番号 | D18: 資料名・ページ数 | E18: 質問 | F18: 回答 | H18: ※ 行数、幅等は適宜追加修正してください。
C19: 1
C20: 2
C21: 3
C22: 4
C23: 5
C24: 6
C25: 7
C26: 8
C27: 9
C28: 10

Sheet 様式6
C3: 様式６
J5: 令和 年 月 日 | L5: 手入力
C7: （宛先）
C8: 伊丹市長 様
F9: =+様式４!F9 -> 所在地： | H9: =+IF(様式１!H9="", "", 様式１!H9) | L9: 様式１に記載した事項が反映
F10: =+様式４!F10 -> 会社名： | H10: =+IF(様式１!H10="", "", 様式１!H10) | L10: 様式１に記載した事項が反映
F11: =+様式４!F11 -> 代表者職氏名： | H11: =+IF(様式１!H11="", "", 様式１!H11) | L11: 様式１に記載した事項が反映
C13: 参 加 辞 退 届
C15: =+" "&基本情報!C2&"に係る公募型プロポーザルに参加し、選定されましたが辞退いたします。" -> 伊丹市広報紙制作委託業務に係る公募型プロポーザルに参加し、選定されましたが辞退いたします。

Sheet 基本情報
B2: 業務名称 | C2: 伊丹市広報紙制作委託業務
