Workbook

Sheet 別紙２
A1: 別紙２
A3: 令和８年度 地域介護拠点整備補助事業所要額調書
I5: 市町名
A7: 整備区分 | D7: 総事業費 Ａ円 | E7: 寄付金その他 の収入額 Ｂ円 | F7: 差引額 Ｃ（=Ａ-Ｂ）円 | G7: 対象経費の 実支出予定額 Ｄ（≦Ａ）円 | H7: 市町補助 予定額 Ｅ円 | I7: 補助基準額 Ｆ円 | J7: 補助基本額 Ｇ円 | K7: 補助所要額 Ｈ円
A8: １ 地域密着型サービス 等の整備
A9: ２ 介護施設等の 施設開設準備経費
A10: ３ 定期借地権設定 のための一時金
A11: ４ 既存施設の改修
A12: ５ 民有地マッチング
A13: ６ コロナ対策
A14: 7 宿舎整備
A15: 合 計 | D15: =IF(SUM(D8:D14)=0,"",SUM(D8:D14)) | E15: =IF(SUM(E8:E14)=0,"0",SUM(E8:E14)) -> 0 | F15: =IF(SUM(F8:F14)=0,"",SUM(F8:F14)) | G15: =IF(SUM(G8:G14)=0,"",SUM(G8:G14)) | H15: =IF(SUM(H8:H14)=0,"",SUM(H8:H14)) | I15: =IF(SUM(I8:I14)=0,"",SUM(I8:I14)) | J15: =IF(SUM(J8:J14)=0,"",SUM(J8:J14)) | K15: =IF(SUM(K8:K14)=0,"",SUM(K8:K14))
A17: （注） | B17: (1) 整備区分ごとに別紙３の合計額を記入すること。
B18: (2) Ａ欄～Ｈ欄については、金額の記入の有無に関係なく必ず記入すること。
B19: (3) Ｇ欄は、Ｃ欄、Ｄ欄、Ｅ欄若しくはＦ欄の額うち最も少ない額（千円未満切り捨て）を記入すること。
B20: (4) 工期が複数年度要する場合は、当年度分に係る分を計上すること。

Sheet 別紙３(1)施設整備
A1: 別紙３－(１)
A3: 地域介護拠点整備補助事業所要額内訳書 （１ 施設等の整備）
N4: 市町名 | O4: =別紙２!J5 -> 0
I6: 補助基準額
A7: 設置主体 | B7: 施設名称 | C7: 施設種別 | D7: 総事業費 | E7: 寄付金その他 | F7: 差引額 | G7: 対象経費の | H7: 市町補助 | I7: 補助単価 | J7: 整備 | K7: 補助基準額 | L7: 当年度 | M7: 当年度基準額 | N7: 補助基本額 | O7: 補助所要額
E8: の収入額 | G8: 実支出予定額 | H8: 予定額 | J8: 床数等 | L8: 進捗率 | M8: （千円未満 端数調整）
D9: Ａ円 | E9: Ｂ円 | F9: C（=Ａ-Ｂ）円 | G9: Ｄ（≦Ａ）円 | H9: Ｅ円 | I9: Ｆ円 | J9: Ｇ 床・施設 | K9: Ｈ=Ｆ×Ｇ円 | L9: Ｉ ％ | M9: Ｊ＝Ｈ×Ｉ円 | N9: Ｋ円 | O9: Ｌ円
A15: 合 計 | C15: =IF(COUNTA(C10:C14)=0,"",COUNTA(C10:C14)) | D15: =IF(SUM(D10:D14)=0,"",SUM(D10:D14)) | E15: =IF(SUM(E10:E14)=0,"0",SUM(E10:E14)) -> 0 | F15: =IF(SUM(F10:F14)=0,"",SUM(F10:F14)) | G15: =IF(SUM(G10:G14)=0,"",SUM(G10:G14)) | H15: =IF(SUM(H10:H14)=0,"",SUM(H10:H14)) | J15: =IF(SUM(J10:J14)=0,"",SUM(J10:J14)) | K15: =IF(SUM(K10:K14)=0,"",SUM(K10:K14)) | M15: =IF(SUM(M10:M14)=0,"",SUM(M10:M14)) | N15: =IF(SUM(N10:N14)=0,"",SUM(N10:N14)) | O15: =IF(SUM(O10:O14)=0,"",SUM(O10:O14))
A17: （注）(1) 施設種別ごと、かつ、整備施設ごとに作成すること。
A18: (2) Ａ欄～D欄については、補助事業者からの申請額（当該年度の進捗分）を転記すること。
A19: (3) Ａ欄～Ｌ欄については、内訳の金額の記入の有無に関係なく必ず記入すること。
A20: (4) Ｋ欄は、Ｃ欄、Ｄ欄、Ｅ欄若しくはＪ欄の額うち最も少ない額（千円未満切り捨て）を記入すること。
A21: (5) 補助基準額は、当該年度の進捗率で按分することとし、千円未満の端数は、最終年度で調整（それ以外は切り捨て）すること。

Sheet 別紙３(1)②（施設整備）
A1: 別紙３－(1)－②
A2: 施設等の整備に係る実施計画書 | S2: ※プルダウンメニューで選択ください。
S3: 有り
A4: 設置主体 | D4: 施設名称 | L4: ※「施設種別」は、プルダウンメニューで選択ください。 | S4: 無し
A5: 施設種別 | B5: ※「施設種別」は、プルダウンメニューで選択ください。 | D5: 整備予定地 | L5: 地域密着型特別養護老人ホーム
A6: 整備定員 | C6: 床 | D6: 整備区分 | E6: ※「整備区分」は、プルダウンメニューで選択ください。 | L6: 地域密着型特別養護老人ホーム（併設ショートステイ含む） | S6: ※「整備区分」は、プルダウンメニューで選択ください。
A7: 敷地面積 | C7: ㎡ | D7: 整備床面積 | F7: ㎡ | L7: 小規模な介護老人保健施設 | S7: 地域密着型サービス等整備（ 創設 (開設) )
A8: 建物の構造 | C8: 階建て | E8: 造り | L8: 小規模な介護医療院 | S8: 地域密着型サービス等整備（ 増築 (床) ）
A9: 合築・併設の有無 | B9: ※プルダウンメニューで選択ください。 | D9: 空き家利用の有無 | E9: ※プルダウンメニューで選択ください。 | L9: 小規模な養護老人ホーム | S9: 地域密着型サービス等整備（ 改築 (再開設) ）
A10: 補助財産への抵当権の設定の有無 | B10: ※プルダウンメニューで選択ください。 | L10: 小規模なケアハウス（特定施設入居者生活介護の指定有り） | S10: 地域密着型サービス等整備（ 増改築 ）
A11: 着工予定年月日 | B11: 年 月 日 | D11: 開設又は 竣工予定年月日 | E11: 年 月 日 | L11: 都市型軽費老人ホーム | S11: 災害イエローゾーンに所在する老朽化等した広域型介護施設等の改築整備
A12: 年度別進捗率（％） | B12: 前年度以前① | C12: 当年度② | D12: 翌年度以降③ | E12: 合計 | L12: 認知症高齢者グループホーム | S12: 公用地を活用した老朽化介護施設等の建替え等促進のための代替施設の整備（ 改修、整備 ）
E13: =B13+C13+D13 -> 0 | L13: 小規模多機能型居宅介護事業所 | S13: 都市部等における増加する介護ニーズへの対応のための既存ストック活用（ 増築 (床) ）
A14: 事業費（単位：円） | E14: 按分率 | L14: 定期巡回・随時対応型訪問介護看護事業所 | S14: 都市部等における増加する介護ニーズへの対応のための既存ストック活用（ 増改築 ）
A15: 支出区分 | B15: 事業費 | C15: 対象施設の 按分率 | D15: 按分後事業費 | E15: 施設種別 | F15: 按分項目 | H15: 按分率（％） | L15: 看護小規模多機能型居宅介護事業所 | S15: 都市部等における増加する介護ニーズへの対応のための既存ストック活用（ 創設 (開設) ）
A16: 本体工事費（対象経費） | H16: =IF(G16=0,"",G16/#REF!) | L16: 認知症対応型デイサービスセンター | S16: 都市部等における増加する介護ニーズへの対応のための既存ストック活用（ 改修 ）
A17: その他工事費（対象外経費） | H17: =IF(G17=0,"",G17/#REF!) | L17: 介護予防拠点 | S17: 中山間・人口減少地域等におけるダウンサイジング（ 改築 ）
A18: 工事費計 | B18: =SUM(B16:B17) -> 0 | D18: =SUM(D16:D17) -> 0 | L18: 地域包括支援センター | S18: 中山間・人口減少地域等におけるダウンサイジング（ 改修 ）
A19: 設計監理料 | L19: 生活支援ハウス | S19: 介護施設等の集約・再編 （ 改築 ）
A20: うち工事事務費 （対象経費の2.6％が上限） | L20: 緊急ショートステイ | S20: 介護施設等の集約・再編 （ 改修 ）
A21: 総事業費 | B21: =IF(B16="",0,(B18+B19)) -> 0 | D21: =IF(D19="",D18,D18+D19) -> 0 | H21: =IF(G21=0,"",G21/#REF!) | L21: 施設内保育施設
A22: 対象経費の実支出予定額 | B22: =IF(B16="",0,B16+MIN(B19:B20)) -> 0 | D22: =IF(D19="",D16,D16+MIN(D19,D20)) -> 0 | E22: 合計 | H22: =IF(G16=0,"",SUM(H16:H21)) | L22: 小規模な介護付きホーム（特定施設入居者生活介護の指定を受ける有料老人ホーム又はサービス付き高齢者向け住宅）
A23: 【当年度の事業費（×進捗率）】 | E23: ※１ 按分項目には、定員、面積など施設種別毎に按分する内容及び その値を記入すること。
A24: 総事業費 | D24: =D21*C13 -> 0 | E24: ※２ 按分率は、小数点第１位までとする。
A25: 対象経費の実支出予定額 | D25: =D22*C13 -> 0
A26: （注１）整備定員について | E26: （注２）補助財産への抵当権の設定の有無
A27: ・ 小規模多機能型居宅介護事業所、看護小規模多機能型居宅介護事業所は、宿泊定員数を記入すること。 | E27: 補助財産に抵当権を設定する場合は財産処分の手続きが必要であるため、交付申請書とあわせて
A28: ・ 定期巡回・随時対応型訪問介護看護事業所及び施設内保育施設は、施設数を記入すること。 | E28: 下記の書類を提出すること。
A29: ・ 介護老人保健施設、介護医療院等、施設への転換の場合は、増床数を記入すること。 | E29: ・抵当権を設定する建物が明示された建物配置図
A30: ・ 増床（整備を伴うものに限る）の場合は、増床数を記入すること。 | E30: ・資金借入申込書（写）
A31: ・ 減床（整備を伴うものに限る）の場合は、減床数を記入すること。 | E31: ・借入の担保として提供する不動産の一覧表
A32: ・ 小規模な介護施設等から大規模な介護施設等への転換の場合は、転床数（整備床数）を記入する。 | E32: ・償還計画及び資金計画

Sheet 別紙３(2)①開設準備
A1: 別紙３－(2)－①
A3: 地域介護拠点整備補助事業所要額内訳書 （２ 施設等の開設準備に要する経費の助成）
N4: 市町名 | O4: =別紙２!J5 -> 0
A6: 設置主体 | B6: 施設名称 | C6: 施設種別 | D6: 開設予定 定員等 ① | E6: 総事業費 | J6: 補助基準額
F7: 寄付金その他 | G7: 差引額 | H7: 対象経費の 実支出予定額 | I7: 市町補助 | J7: 補助単価 | K7: 基準額 | L7: 前年度 | M7: 当年度基準額 | N7: 補助基本額 | O7: 補助所要額
E8: 合計 | F8: の収入額 | I8: 予定額 | K8: (Ｆ×①) | L8: 補助額 | M8: (Ｇ－Ｈ)
E9: Ａ円 | F9: Ｂ円 | G9: Ｃ(=A-Ｂ)円 | H9: Ｄ（≦Ａ）円 | I9: Ｅ円 | J9: Ｆ円 | K9: Ｇ円 | L9: Ｈ円 | M9: Ｉ円 | N9: Ｊ円 | O9: Ｋ円
A16: 合 計 | C16: =IF(COUNTA(C10:C15)=0,"",COUNTA(C10:C15)) | D16: =IF(SUM(D10:D15)=0,"",SUM(D10:D15)) | E16: =IF(SUM(E10:E15)=0,"",SUM(E10:E15)) | F16: =IF(SUM(F10:F15)=0,"0",SUM(F10:F15)) -> 0 | G16: =IF(SUM(G10:G15)=0,"",SUM(G10:G15)) | H16: =IF(SUM(H10:H15)=0,"",SUM(H10:H15)) | I16: =IF(SUM(I10:I15)=0,"",SUM(I10:I15)) | K16: =IF(SUM(K10:K15)=0,"",SUM(K10:K15)) | L16: =IF(SUM(L10:L15)=0,"0",SUM(L10:L15)) -> 0 | M16: =IF(SUM(M10:M15)=0,"",SUM(M10:M15)) | N16: =IF(SUM(N10:N15)=0,"",SUM(N10:N15)) | O16: =IF(SUM(O10:O15)=0,"",SUM(O10:O15))
A18: （注）(1) 施設種別ごと、かつ、事業実施施設ごとに作成すること。
A19: (2) Ａ欄～Ｋ欄については、内訳の金額の記入の有無に関係なく必ず記入すること。
A20: (3) Ａ欄～Ｄ欄については、前年度実績を含めた補助事業者からの申請額を転記すること。
A21: (4) 開設予定定員等について
A22: 小規模多機能型居宅介護事業所、看護小規模多機能型居宅介護事業所は、宿泊定員数を記入すること。
A23: 定期巡回・随時対応型訪問介護看護事業所及び施設内保育施設は、施設数を記入すること。
A24: 介護療養型医療施設等の介護老人保健施設等への転換の場合は、転換床数を記入すること。
A25: 増床の場合は、増床数を記入すること。
A26: (5) Ｊ欄は、Ｃ欄、Ｄ欄Ｅ欄若しくはＩ欄の額うち最も少ない額（千円未満切り捨て）を記入すること。

Sheet 別紙３(2)②（開設準備）
A1: 別紙３－(2)－②
A3: 施設等の開設準備に係る実施計画書
M4: ※「施設種別」は、プルダウンメニューで選択ください。
A5: 設置主体 | D5: 施設名称 | M5: ●定員30人以上の広域型施設等（政令市・中核市のみ対象)↓下から選択
A6: 施設種別 | B6: ※「施設種別」は、プルダウンメニューで選択ください。 | D6: 整備予定地 | M6: 特別養護老人ホーム及び併設されるショートステイ用居室
A7: 開設予定定員等 | C7: 床（又は施設） | D7: 開設予定年月日 | M7: 介護老人保健施設
A8: 今年度開設準備月数 | D8: ヶ月 | E8: 令和 年 月 | F8: から | G8: 令和 年 月 | M8: 介護医療院
A9: （注）開設予定定員等について | M9: ケアハウス（特定施設入居者生活介護の指定を受けるもの）
A10: ・小規模多機能型居宅介護事業所、看護小規模多機能型居宅介護事業所は、宿泊定員数を記入すること。 | M10: 養護老人ホーム
A11: ・定期巡回・随時対応型訪問介護看護事業所及び施設内保育施設は、施設数を記入すること。 | M11: 介護付きホーム（特定施設入居者生活介護の指定を受ける有料老人ホーム又はサービス付き高齢者向け住宅）
A12: ・増床（整備を伴うものに限る）の場合は、増床数を記入すること。 | M12: 施設内保育施設
M13: 訪問看護ステーション（大規模化やサテライト型事業所）
I15: （ 単位 ： 円 ）
B16: 支出科目 | C16: 支出内容 | D16: 支出 ( 予定 )月 | E16: 対象事業の 総事業費 | F16: 対象事業の 実支出予定額 | G16: 対象施設の 面積按分率（％） | H16: 按分後 | M16: ●定員29人以下の地域密着型施設の整備等（全市町対象）↓下から選択
A17: 区 分 | H17: 対象事業の 総事業費 | I17: 対象経費の 実支出予定額 | M17: 地域密着型特別養護老人ホーム（併設の老人短期入所施設を含む）
M18: 小規模な介護老人保健施設
A19: 看護・介護職員等 の雇い上げ経費 | D19: 自： 年 月 ～ 至： 年 月 | M19: 小規模な介護医療院
D20: 自： 年 月 ～ 至： 年 月 | M20: 小規模なケアハウス（特定施設入居者生活介護の指定を受けるもの）
B21: 小 計 | E21: =SUM(E19:E20) -> 0 | F21: =SUM(F19:F20) -> 0 | H21: =SUM(H19:H20) -> 0 | I21: =SUM(I19:I20) -> 0 | M21: 認知症高齢者グループホーム
A22: 普及啓発経費 | D22: 自： 年 月 ～ 至： 年 月 | M22: 小規模多機能型居宅介護事業所
D23: 自： 年 月 ～ 至： 年 月 | M23: 看護小規模多機能型居宅介護事業所
B24: 小 計 | E24: =SUM(E22:E23) -> 0 | F24: =SUM(F22:F23) -> 0 | H24: =SUM(H22:H23) -> 0 | I24: =SUM(I22:I23) -> 0 | M24: 小規模な介護付きホーム（特定施設入居者生活介護の指定を受ける有料老人ホーム又はサービス付き高齢者向け住宅）
A25: 職員の募集経費 | D25: 自： 年 月 ～ 至： 年 月 | M25: 定期巡回・随時対応型訪問介護看護事業所
D26: 自： 年 月 ～ 至： 年 月 | M26: 都市型軽費老人ホーム
B27: 小 計 | E27: =SUM(E25:E26) -> 0 | F27: =SUM(F25:F26) -> 0 | H27: =SUM(H25:H26) -> 0 | I27: =SUM(I25:I26) -> 0 | M27: 小規模な養護老人ホーム
A28: 周知・広報経費 | D28: 自： 年 月 ～ 至： 年 月 | M28: 施設内保育施設.
D29: 自： 年 月 ～ 至： 年 月
B30: 小 計 | E30: =SUM(E28:E29) -> 0 | F30: =SUM(F28:F29) -> 0 | H30: =SUM(H28:H29) -> 0 | I30: =SUM(I28:I29) -> 0
A31: 事 務 経 費 | D31: 自： 年 月 ～ 至： 年 月
D32: 自： 年 月 ～ 至： 年 月
B33: 小 計 | E33: =SUM(E31:E32) -> 0 | F33: =SUM(F31:F32) -> 0 | H33: =SUM(H31:H32) -> 0 | I33: =SUM(I31:I32) -> 0
A34: その他開設の準備に 必要な経費（備品等） | D34: 自： 年 月 ～ 至： 年 月
D35: 自： 年 月 ～ 至： 年 月
B36: 小 計 | E36: =SUM(E34:E35) -> 0 | F36: =SUM(F34:F35) -> 0 | H36: =SUM(H34:H35) -> 0 | I36: =SUM(I34:I35) -> 0
A37: 合 計 | E37: =SUM(E21+E24+E27+E30+E33+E36) -> 0 | F37: =SUM(F21+F24+F27+F30+F33+F36) -> 0 | H37: =SUM(H21+H24+H27+H30+H33+H36) -> 0 | I37: =SUM(I21+I24+I27+I30+I33+I36) -> 0
B39: 按分率 | C39: 施設種別 | D39: 按分項目 | G39: 按分率（％） | H39: （注）按分率 は、小数点 第１位まで とする。
B40: 内訳 | G40: =IF(F40=0,"",F40/E$43)
G41: =IF(F41=0,"",F41/E$43)
G42: =IF(F42=0,"",F42/E$43)
C43: 合計 | E43: =IF(F40=0,"",SUM(F40:F42)) | G43: =IF(F40=0,"",SUM(G40:G42))
...

Sheet 別紙３(2)③（介護テクノロジー）
A1: 別紙３－(2)－③
A3: 大規模修繕の際にあわせて行う介護テクノロジーの導入に必要な経費に係る実施計画書
A5: 設置主体 | D5: 施設名称
A6: 施設種別 | B6: ※「整備施設」をプルダウンメニューで選択ください。 | D6: 整備予定地
A7: 開設予定定員等 | C7: 床（又は施設） | D7: 開設予定年月日
A8: 今年度開設準備月数 | D8: ヶ月 | E8: 令和 年 月 | F8: から | G8: 令和 年 月 | M8: ※「整備施設」をプルダウンメニューで選択ください。
A9: （注）開設予定定員等について | M9: 地域密着型特別養護老人ホーム（併設の老人短期入所施設を含む）
A10: ・小規模多機能型居宅介護事業所、看護小規模多機能型居宅介護事業所は、事業計画書の①欄に宿泊定員数を記入すること。 | M10: 小規模な介護老人保健施設
A11: ・定期巡回・随時対応型訪問介護看護事業所及び施設内保育施設は、事業計画書の①欄に施設数を記入すること。 | M11: 小規模な介護医療院
M12: 小規模なケアハウス（特定施設入居者生活介護の指定を受けるもの）
I13: （ 単位 ： 円 ） | M13: 認知症高齢者グループホーム
B14: 支出科目 | C14: 支出内容 | D14: 支出 ( 予定 )月 | E14: 対象事業の 総事業費 | F14: 対象事業の 支出予定額 | G14: 対象施設の 面積按分率（％） | H14: 按分後 | M14: 小規模多機能型居宅介護事業所
A15: 区 分 | H15: 対象事業の 総事業費 | I15: 対象経費の 実支出予定額 | M15: 看護小規模多機能型居宅介護事業所
M16: 小規模な介護付きホーム（特定施設入居者生活介護の指定を受ける有料老人ホーム又はサービス付き高齢者向け住宅）
A17: 介護ロボット等の導入 支援 | D17: 自： 年 月 ～ 至： 年 月 | M17: 定期巡回・随時対応型訪問介護看護事業所
D18: 自： 年 月 ～ 至： 年 月 | M18: 都市型軽費老人ホーム
D19: 自： 年 月 ～ 至： 年 月 | M19: 小規模な養護老人ホーム
D20: 自： 年 月 ～ 至： 年 月 | M20: 施設内保育施設
D21: 自： 年 月 ～ 至： 年 月
D22: 自： 年 月 ～ 至： 年 月
D23: 自： 年 月 ～ 至： 年 月
D24: 自： 年 月 ～ 至： 年 月
B25: 小 計 | E25: =SUM(E17:E24) -> 0 | F25: =SUM(F17:F24) -> 0 | H25: =SUM(H17:H24) -> 0 | I25: =SUM(I17:I24) -> 0
A26: ICT等の導入支援 | D26: 自： 年 月 ～ 至： 年 月
D27: 自： 年 月 ～ 至： 年 月
B28: 小 計 | E28: =SUM(E26:E27) -> 0 | F28: =SUM(F26:F27) -> 0 | H28: =SUM(H26:H27) -> 0 | I28: =SUM(I26:I27) -> 0
A29: 介護テクノロジーのパッケージ型導入支援 | D29: 自： 年 月 ～ 至： 年 月
D30: 自： 年 月 ～ 至： 年 月
B31: 小 計 | E31: =SUM(E29:E30) -> 0 | F31: =SUM(F29:F30) -> 0 | H31: =SUM(H29:H30) -> 0 | I31: =SUM(I29:I30) -> 0
A32: 合 計 | E32: =SUM(E25+E28+E31) -> 0 | F32: =SUM(F25+F28+F31) -> 0 | H32: =SUM(H25+H28+H31) -> 0 | I32: =SUM(I25+I28+I31) -> 0
B34: 按分率 | C34: 施設種別 | D34: 按分項目 | G34: 按分率（％） | H34: （注）按分率 は、小数点 第１位まで とする。
B35: 内訳 | G35: =IF(F35=0,"",F35/F$38)
G36: =IF(F36=0,"",F36/F$38)
G37: =IF(F37=0,"",F37/F$38)
C38: 合計 | F38: =IF(F35=0,"",SUM(F35:F37)) | G38: =IF(F35=0,"",SUM(G35:G37))
C39: ※按分項目には、定員、面積など施設種別毎に按分する内容及びその値を記入すること。
A41: （参考）今回実施する大規模修繕の施工計画等
A42: 建物の建築年月日・築年数 | B42: H○.○.○ | C42: 築○年 | D42: 建物の構造 | F42: ○○造○階建
A43: 大規模修繕の整備内容
A44: 整備区分 （管理運営要領別記１－１ ２（１）イ（イ）の表の区分） ※（１）（２）のみ該当 | C44: 具体的な内容（使用に堪えなくなり、改修が必要となった詳細を含めて記載すること）
...

Sheet 別紙３(3)定期借地権
A1: 別紙３－(3)
A3: 地域介護拠点整備補助事業所要額内訳書 （３ 定期借地権設定のための一時金）
L4: 市町名 | M4: =別紙２!J5 -> 0
I6: 補助基準額
A7: 設置主体 | B7: 施設名称 | C7: 施設種別 | D7: 総事業費 | E7: 寄付金その他 | F7: 差引額 | G7: 対象経費の | H7: 市町補助 | I7: 用地の路線 | J7: 一時金 | K7: 補助基準額 | L7: 補助基本額 | M7: 補助所要額
E8: の収入額 | G8: 実支出予定額 | H8: 予定額 | I8: 評価額 | J8: 支払予定額 | K8: （千円未満切り捨て）
D9: Ａ円 | E9: Ｂ円 | F9: Ｃ(=A-Ｂ)円 | G9: Ｄ（≦Ａ）円 | H9: Ｅ円 | I9: Ｆ円 | J9: Ｇ円 | K9: Ｈ(＝min(Ｆ/2,Ｄ）×1/2)円 | L9: Ｉ円 | M9: Ｊ円
A15: 合 計 | C15: =IF(COUNTA(C10:C14)=0,"",COUNTA(C10:C14)) | D15: =IF(SUM(D10:D14)=0,"",SUM(D10:D14)) | E15: =IF(SUM(E10:E14)=0,"0",SUM(E10:E14)) -> 0 | F15: =IF(SUM(F10:F14)=0,"",SUM(F10:F14)) | G15: =IF(SUM(G10:G14)=0,"",SUM(G10:G14)) | H15: =IF(SUM(H10:H14)=0,"",SUM(H10:H14)) | I15: =IF(SUM(I10:I14)=0,"",SUM(I10:I14)) | J15: =IF(SUM(J10:J14)=0,"",SUM(J10:J14)) | K15: =IF(SUM(K10:K14)=0,"",SUM(K10:K14)) | L15: =IF(SUM(L10:L14)=0,"",SUM(L10:L14)) | M15: =IF(SUM(M10:M14)=0,"",SUM(M10:M14))
A17: (注）(1) 施設種別ごと、かつ、事業実施施設ごとに作成すること。 | I17: 事業計画書（合築・併設施設は、本体施設の次に記入すること。）
A18: (2) Ａ欄～D欄については、補助事業者からの申請額を転記すること。 | I18: 設置主体 | K18: 整備予定地 | L18: 定期借地権設定予定日
A19: (3) Ａ欄～Ｊ欄については、内訳の金額の記入の有無に関係なく必ず記入すること。 | I19: 施設名称 | L19: 工事着工予定日
A20: (4) Ｈ欄にはFに１／２を乗じた額とDを比較して少ない方の額に１／２を乗じた額（千円未満切り捨て）を記入すること。 | I20: 施設種別 | L20: 開設予定日
A21: (5) Ｉ欄は、Ｃ欄、Ｄ欄、Ｅ欄、Ｇ欄若しくはＨ欄の額うち最も少ない額（千円未満切り捨て）を記入すること。

Sheet 別紙３(4)既存改修
A1: 別紙３－(4)
A3: 地域介護拠点整備補助事業所要額内訳書 （４ 既存の施設の改修）
N4: 市町名 | O4: =別紙２!J5 -> 0
I6: 補助基準額
A7: 設置主体 | B7: 施設名称 | C7: 施設種別 | D7: 総事業費 | E7: 寄付金その他 | F7: 差引額 | G7: 対象経費の | H7: 市町補助 | I7: 補助単価 | J7: 整備・転換 | K7: 補助基準額 | L7: 当年度 | M7: 当年度基準額 | N7: 補助基本額 | O7: 補助所要額
E8: の収入額 | G8: 実支出予定額 | H8: 予定額 | J8: 床数 | L8: 進捗率 | M8: （千円未満 端数調整）
D9: Ａ円 | E9: Ｂ円 | F9: Ｃ(=A-Ｂ)円 | G9: Ｄ（≦Ａ）円 | H9: Ｅ円 | I9: Ｆ円 | J9: Ｇ床 | K9: Ｈ=Ｆ×Ｇ円 | L9: Ｉ ％ | M9: Ｊ＝Ｈ×Ｉ円 | N9: Ｋ円 | O9: Ｌ円
A15: 合 計 | C15: =IF(SUM(C10:C14)=0,"",SUM(C10:C14)) | D15: =IF(SUM(D10:D14)=0,"",SUM(D10:D14)) | E15: =IF(SUM(E10:E14)=0,"0",SUM(E10:E14)) -> 0 | F15: =IF(SUM(F10:F14)=0,"",SUM(F10:F14)) | G15: =IF(SUM(G10:G14)=0,"",SUM(G10:G14)) | H15: =IF(SUM(H10:H14)=0,"",SUM(H10:H14)) | J15: =IF(SUM(J10:J14)=0,"",SUM(J10:J14)) | K15: =IF(SUM(K10:K14)=0,"",SUM(K10:K14)) | M15: =IF(SUM(M10:M14)=0,"",SUM(M10:M14)) | N15: =IF(SUM(N10:N14)=0,"",SUM(N10:N14)) | O15: =IF(SUM(O10:O14)=0,"",SUM(O10:O14))
A17: （注）(1) 施設種別ごと、かつ、整備施設ごとに作成すること。
A18: (2) Ａ欄～D欄については、補助事業者からの申請額（当該年度の進捗分）を転記すること。
A19: (3) Ａ欄～Ｌ欄については、内訳の金額の記入の有無に関係なく必ず記入すること。
A20: (4) Ｋ欄は、Ｃ欄、Ｄ欄、Ｅ欄若しくはＪ欄の額うち最も少ない額（千円未満切り捨て）を記入すること。
A21: (5) 補助基準額は、当該年度の進捗率で按分することとし、千円未満の端数は、最終年度で調整（それ以外は切り捨て）すること。

Sheet 別紙３(４)② (既存改修)
A1: 別紙３－(4)－②
A3: 既存の施設の改修に係る実施計画書
A5: 設置主体 | D5: 施設名称
A6: 施設種別 | D6: 整備予定地
A7: 整備定員 | C7: 床 | D7: 整備内容 | E7: ※「整備内容」は、プルダウンメニューで選択ください。
A8: 建物の構造 | C8: 階建て | E8: 造り
A9: 整備概要
A10: 着工予定年月日 | B10: 年 月 日 | D10: 開設予定年月日 | E10: 年 月 日
A11: 年度別進捗率（％） | B11: 前年度以前① | C11: 当年度② | D11: 翌年度以降③ | E11: 合計
E12: =B12+C12+D12 -> 0
A13: 事業費（単位：円） | E13: 按分率
A14: 支出区分 | B14: 事業費 | C14: 対象施設の 按分率 | D14: 按分後事業費 | E14: 施設種別 | F14: 按分項目 | H14: 按分率（％）
A15: 本体工事費（対象経費） | H15: =IF(G15=0,"",G15/#REF!)
A16: その他工事費（対象外経費） | H16: =IF(G16=0,"",G16/#REF!)
A17: 工事費計 | B17: =SUM(B15:B16) -> 0 | D17: =SUM(D15:D16) -> 0
A18: 設計監理料
A19: うち工事事務費 （対象経費の2.6％が上限） | K19: ※「整備内容」は、プルダウンメニューで選択ください。
A20: 総事業費 | B20: =IF(B15="",0,(B17+B18)) -> 0 | D20: =IF(D18="",D17,D17+D18) -> 0 | H20: =IF(G20=0,"",G20/#REF!) | K20: 既存施設の「個室→ﾕﾆｯﾄ化」改修
A21: 対象経費の実支出予定額 | B21: =IF(B15="",0,B15+MIN(B18:B19)) -> 0 | D21: =IF(D18="",D15,D15+MIN(D18,D19)) -> 0 | E21: 合計 | H21: =IF(G15=0,"",SUM(H15:H20)) | K21: 既存施設の「多床室→ﾕﾆｯﾄ化」改修
A22: 【当年度の事業費（×進捗率）】 | E22: ※１ 按分項目には、定員、面積など施設種別毎に按分する内容及び その値を記入すること。 | K22: 多床室のﾌﾟﾗｲﾊﾞｼｰ保護のための改修
A23: 総事業費 | D23: =D20*C12 -> 0 | E23: ※２ 按分率は、小数点第１位までとする。 | K23: 介護施設等の看取り環境の整備
A24: 対象経費の実支出予定額 | D24: =D21*C12 -> 0 | K24: 共生型サービス事業所の整備
A25: 【整備内容一覧】
A26: 既存施設の「個室→ﾕﾆｯﾄ化」改修
A27: 既存施設の「多床室→ﾕﾆｯﾄ化」改修
A28: 多床室のﾌﾟﾗｲﾊﾞｼｰ保護のための改修
A29: 介護施設等の看取り環境の整備
A30: 共生型サービス事業所の整備

Sheet 別紙３(5)民有地ﾏｯﾁﾝｸﾞ
A1: 別紙３－(5)
A3: 地域介護拠点整備補助事業所要額内訳書 （５ 民有地マッチング）
H4: 市町名 | I4: =別紙２!J5 -> 0
A7: 事業者名 | B7: 総事業費 | C7: 寄付金その他 | D7: 差引額 | E7: 対象経費の | F7: 市町補助 | G7: 補助基準額 | H7: 補助基本額 | I7: 補助所要額
C8: の収入額 | E8: 実支出予定額 | F8: 予定額
B9: Ａ円 | C9: Ｂ円 | D9: Ｃ(=A-Ｂ)円 | E9: Ｄ（≦Ａ）円 | F9: Ｅ円 | G9: F円 | H9: G円 | I9: H円
A13: 合 計 | B13: =IF(SUM(B10:B12)=0,"",SUM(B10:B12)) | C13: =IF(SUM(C10:C12)=0,"0",SUM(C10:C12)) -> 0 | D13: =IF(SUM(D10:D12)=0,"",SUM(D10:D12)) | E13: =IF(SUM(E10:E12)=0,"",SUM(E10:E12)) | F13: =IF(SUM(F10:F12)=0,"",SUM(F10:F12)) | G13: =IF(SUM(G10:G12)=0,"",SUM(G10:G12)) | H13: =IF(SUM(H10:H12)=0,"",SUM(H10:H12)) | I13: =IF(SUM(I10:I12)=0,"",SUM(I10:I12))
A15: (注）(1) 事業者ごとに作成すること。
A16: (2) Ａ欄～H欄については、内訳の金額の記入の有無に関係なく必ず記入すること。
A17: (3) G欄は、Ｃ欄、Ｄ欄、Ｅ欄若しくはF欄の額うち最も少ない額（千円未満切り捨て）を記入すること。 | F17: 事業者名 | G17: 整備候補地・ 配置予定地等 | H17: 整備内容 （事業内容一覧から転記）
B19: 事業内容一覧 | C19: ・土地所有者と介護施設等整備法人等のマッチング支援 | F19: 事業開始予定年月日
C20: ・整備候補地等の確保支援
C21: ・地域連携コーディネーターの配置支援

Sheet 別紙３(6)コロナ対策
A1: 別紙３－(6)
A3: 地域介護拠点整備補助事業所要額内訳書 （６ 介護施設等における新型コロナウィルス感染症拡大防止対策支援事業）
N4: 市町名 | O4: =別紙２!J5 -> 0
J6: 補助基準額 | M6: 補助算定額 | N6: 補助基本額 | O6: 補助所要額
A7: 設置主体 | B7: 施設名称 | C7: 施設種別 | D7: 事業内容 | E7: 総 事 業 費 | F7: 寄付金その他 | G7: 差引額 | H7: 対象経費の | I7: 市町補助 | J7: 補助単価 | K7: 整備数 | L7: 補助基準額 | M7: （千円未満切り捨て） | N7: （千円未満切り捨て）
E8: 合計 | F8: の収入額 | H8: 実支出予定額 | I8: 予定額 | K8: （台・床・箇所・施設）
E9: Ａ円 | F9: Ｂ円 | G9: Ｃ(=A-Ｂ)円 | H9: Ｄ（≦Ａ）円 | I9: Ｅ円 | J9: Ｆ円 | K9: Ｇ | L9: Ｈ=Ｆ×Ｇ円 | M9: Ｉ(＝min(Ｃ,Ｄ,Ｈ）×１/３)円 | N9: Ｊ円 | O9: Ｋ円
A15: 合 計 | C15: =IF(COUNTA(C10:C14)=0,"",COUNTA(C10:C14)) | E15: =IF(SUM(E10:E14)=0,"",SUM(E10:E14)) | F15: =IF(SUM(F10:F14)=0,"0",SUM(F10:F14)) -> 0 | G15: =IF(SUM(G10:G14)=0,"",SUM(G10:G14)) | H15: =IF(SUM(H10:H14)=0,"",SUM(H10:H14)) | I15: =IF(SUM(I10:I14)=0,"",SUM(I10:I14)) | K15: =IF(SUM(K10:K14)=0,"",SUM(K10:K14)) | L15: =IF(SUM(L10:L14)=0,"",SUM(L10:L14)) | M15: =IF(SUM(M10:M14)=0,"",SUM(M10:M14)) | N15: =IF(SUM(N10:N14)=0,"",SUM(N10:N14)) | O15: =IF(SUM(O10:O14)=0,"",SUM(O10:O14))
A17: (注）(1) 事業者ごとに作成すること。
A18: (2) Ａ欄～Ｊ欄については、内訳の金額の記入の有無に関係なく必ず記入すること。
A19: (3) 事業内容は、別紙３－(6)－②で記載した内容を記入すること。
A20: (4) Ｉ欄は、Ｃ欄、Ｄ欄、もしくはＨ欄の額うち最も少ない額に１／３を乗じた額（千円未満切り捨て）を記入すること。
A21: (5) Ｊ欄は、Ｅ欄とＩ欄の額のうち、少ない額（千円未満切り捨て）を記入すること。

Sheet 別紙３(6)②（コロナ対策）
A1: 別紙３－(6)－②
A3: 介護施設等における新型コロナウィルス感染症拡大防止対策支援事業に係る計画書
A5: 設置主体 | D5: 施設名称 | J5: ※「施設種別」をプルダウンメニューで選択ください。 | P5: ※「事業内容」をプルダウンメニューで選択ください。
A6: 施設種別 | B6: ※「施設種別」をプルダウンメニューで選択ください。 | D6: 整備予定地 | J6: 特別養護老人ホーム（地域密着型含む） | P6: 簡易陰圧装置設置経費支援
A7: 施設定員 | C7: 床 | D7: 事業内容 | E7: ※「事業内容」をプルダウンメニューで選択ください。 | J7: 介護老人保健施設 | P7: 介護施設等個室化改修事業
A8: 建物の構造 | C8: 階建て | E8: 造り | F8: ユニット数 （ユニット型の場合） | J8: 介護医療院 | P8: ゾーニング環境等の整備（ユニット型施設の各ユニットへの玄関室設置）
A9: 事業概要 | F9: 整備数 （台数・床数・個所数・施設数） | J9: 養護老人ホーム | P9: ゾーニング環境等の整備（従来型個室・多床室のゾーニング）
A10: 着手予定年月日 | B10: 年 月 日 | D10: 完成予定年月日 | E10: 年 月 日 | J10: 軽費老人ホーム | P10: ゾーニング環境等の整備（家族面会室の整備等）
A11: 事業費（単位：円） | E11: 按分率 | J11: 認知症高齢者グループホーム
A12: 支出区分 | B12: 事業費 | C12: 対象施設の 按分率 | D12: 按分後事業費 | E12: 施設種別 | F12: 按分項目 | H12: 按分率（％） | J12: 小規模多機能型居宅介護事業所
A13: 本体工事費（対象経費） | H13: =IF(G13=0,"",G13/#REF!) | J13: 看護小規模多機能型居宅介護事業所
A14: その他工事費（対象外経費） | H14: =IF(G14=0,"",G14/#REF!) | J14: 有料老人ホーム
A15: 工事費計 | B15: =SUM(B13:B14) -> 0 | D15: =SUM(D13:D14) -> 0 | J15: サービス付き高齢者向け住宅
A16: 設計監理料 | J16: 短期入所生活介護事業所
A17: うち工事事務費 （対象経費の2.6％が上限） | J17: 短期入所療養介護事業所
A18: 総事業費 | B18: =IF(B13="",0,(B15+B16)) -> 0 | D18: =IF(D16="",D15,D15+D16) -> 0 | H18: =IF(G18=0,"",G18/#REF!) | J18: 生活支援ハウス（居住部分に限る）
A19: 対象経費の実支出予定額 | B19: =IF(B13="",0,B13+MIN(B16:B17)) -> 0 | D19: =IF(D16="",D13,D13+MIN(D16,D17)) -> 0 | E19: 合計 | H19: =IF(G13=0,"",SUM(H13:H18))
A20: 【事業内容一覧】 | E20: ※１ 按分項目には、定員、面積など施設種別毎に按分する内容及び その値を記入すること。
A21: 簡易陰圧装置設置経費支援 | E21: ※２ 按分率は、小数点第１位までとする。
A22: 介護施設等個室化改修事業
A23: ゾーニング環境等の整備（ユニット型施設の各ユニットへの玄関室設置）
A24: ゾーニング環境等の整備（従来型個室・多床室のゾーニング）
A25: ゾーニング環境等の整備（家族面会室の整備等）

Sheet 別紙３(7)宿舎整備
A1: 別紙３－(7)
A3: 地域介護拠点整備補助事業所要額内訳書 （７ 介護職員の宿舎施設整備）
Q4: 市町名 | R4: =別紙２!J5 -> 0
I6: 補助基準額
G7: 対象経費の 実支出予定額 | I7: 宿舎の 定員数 | J7: 基準面積 | M7: 補助基準額 | N7: 当年度 | O7: 当年度基準額
A8: 設置主体 | B8: 施設名称 | C8: 施設種別 | D8: 総事業費 | E8: 寄付金その他 | F8: 差引額 | H8: 市町補助 | J8: 基準面積 | K8: 整備 延床面積 | L8: 補助対象 基準面積 | N8: 進捗率 | O8: （千円未満 端数調整） | P8: 補助算定額 | Q8: 補助基本額 | R8: 補助所要額
E9: の収入額 | H9: 予定額 | J9: G＝F×33㎡ | M9: J＝D×I／H
D10: Ａ円 | E10: Ｂ円 | F10: C（=Ａ-Ｂ）円 | G10: Ｄ（≦Ａ）円 | H10: Ｅ円 | I10: F人 | K10: H | L10: I | N10: Ｋ ％ | O10: L円 | P10: Ｍ円 | Q10: Ｎ円 | R10: Ｏ円
A15: 合 計 | C15: =IF(COUNTA(C10:C14)=0,"",COUNTA(C10:C14)) | D15: =IF(SUM(D11:D14)=0,"",SUM(D11:D14)) | E15: =IF(SUM(E11:E14)=0,"0",SUM(E11:E14)) -> 0 | F15: =IF(SUM(F11:F14)=0,"",SUM(F11:F14)) | G15: =IF(SUM(G11:G14)=0,"",SUM(G11:G14)) | H15: =IF(SUM(H11:H14)=0,"",SUM(H11:H14)) | I15: =IF(SUM(I11:I14)=0,"",SUM(I11:I14)) | J15: =IF(SUM(J11:J14)=0,"",SUM(J11:J14)) | K15: =IF(SUM(K11:K14)=0,"",SUM(K11:K14)) | L15: =IF(SUM(L11:L14)=0,"",SUM(L11:L14)) | M15: =IF(SUM(M11:M14)=0,"",SUM(M11:M14)) | O15: =IF(SUM(O11:O14)=0,"",SUM(O11:O14)) | P15: =IF(SUM(P11:P14)=0,"",SUM(P11:P14)) | Q15: =IF(SUM(Q11:Q14)=0,"",SUM(Q11:Q14)) | R15: =IF(SUM(R11:R14)=0,"",SUM(R11:R14))
A17: （注）(1) 施設種別ごと、かつ、整備施設ごとに作成すること。
A18: (2) Ａ欄～D欄については、補助事業者からの申請額（当該年度の進捗分）を転記すること。
A19: (3) Ａ欄～Ｏ欄については、内訳の金額の記入の有無に関係なく必ず記入すること。
A20: (4) Ｈ欄は、整備する宿舎の延床面積を記入すること。
A21: (5) I欄は、G欄とH欄のうち小さい面積を記入すること。
A22: (6) Ｍ欄は、Ｃ欄、Ｄ欄、もしくはＬ欄の額うち最も少ない額に１／３を乗じた額（千円未満切り捨て）を記入すること。
A23: (7) Ｎ欄は、Ｅ欄とＭ欄の額のうち、少ない額（千円未満切り捨て）を記入すること。

Sheet 別紙３(7)②（宿舎整備）
A1: 別紙３－(7)－②
A3: 介護職員の宿舎施設整備に係る実施計画書
A5: 設置主体 | D5: 施設名称
A6: 施設種別 | B6: ※「施設種別」をプルダウンメニューで選択ください。 | D6: 整備予定地
A7: 宿舎定員 | C7: 人 | D7: 左記のうち対象 施設の定員 | F7: 人 | L7: ※「施設種別」をプルダウンメニューで選択ください。
A8: 敷地面積 | C8: ㎡ | D8: 整備床面積 | F8: ㎡ | L8: 特別養護老人ホーム（地域密着型含む）
A9: 建物の構造 | C9: 階建て | E9: 造り | L9: 介護老人保健施設
A10: 着工予定年月日 | B10: 年 月 日 | D10: 開設予定年月日 | E10: 年 月 日 | L10: 介護医療院
A11: 年度別進捗率（％） | B11: 前年度以前① | C11: 当年度② | D11: 翌年度以降③ | E11: 合計 | L11: ケアハウス（特定施設入居者生活介護の指定を受けるもの）
E12: =B12+C12+D12 -> 0 | L12: 認知症高齢者グループホーム
A13: 事業費（単位：円） | E13: 按分率 | L13: 小規模多機能型居宅介護事業所
A14: 支出区分 | B14: 事業費 | C14: 対象施設の 按分率 | D14: 按分後事業費 | E14: 施設種別 | F14: 按分項目 | H14: 按分率（％） | L14: 看護小規模多機能型居宅介護事業所
A15: 本体工事費（対象経費） | H15: =IF(G15=0,"",G15/#REF!) | L15: 介護付きホーム（特定施設入居者生活介護の指定を受ける有料老人ホーム又はサービス付き高齢者向け住宅）
A16: その他工事費（対象外経費） | H16: =IF(G16=0,"",G16/#REF!) | L16: 定期巡回・随時対応型訪問介護看護事業所
A17: 工事費計 | B17: =SUM(B15:B16) -> 0 | D17: =SUM(D15:D16) -> 0
A18: 設計監理料
A19: うち工事事務費 （対象経費の2.6％が上限）
A20: 総事業費 | B20: =IF(B15="",0,(B17+B18)) -> 0 | D20: =IF(D18="",D17,D17+D18) -> 0 | H20: =IF(G20=0,"",G20/#REF!)
A21: 対象経費の実支出予定額 | B21: =IF(B15="",0,B15+MIN(B18:B19)) -> 0 | D21: =IF(D18="",D15,D15+MIN(D18,D19)) -> 0 | E21: 合計 | H21: =IF(G15=0,"",SUM(H15:H20))
A22: 【当年度の事業費（×進捗率）】 | E22: ※１ 按分項目には、定員、面積など施設種別毎に按分する内容及び その値を記入すること。
A23: 総事業費 | D23: =D20*C12 -> 0 | E23: ※２ 按分率は、小数点第１位までとする。
A24: 対象経費の実支出予定額 | D24: =D21*C12 -> 0
